View In:
ArcGIS JavaScript
ArcGIS Online Map Viewer
ArcGIS Earth
Service Description: Firefly2018
Name: Firefly2018
Description:
Single Fused Map Cache: false
Extent:
XMin: 620347.4697150737
YMin: 428748.25418174017
XMax: 633251.4660242903
YMax: 441974.9744094014
Spatial Reference: 102657
(2235)
LatestVCSWkid(0)
Initial Extent:
XMin: 620347.4697150737
YMin: 428748.25418174017
XMax: 633251.4660242903
YMax: 441974.9744094014
Spatial Reference: 102657
(2235)
LatestVCSWkid(0)
Full Extent:
XMin: 620347.4697150737
YMin: 428748.25418174017
XMax: 633251.4660242903
YMax: 441974.9744094014
Spatial Reference: 102657
(2235)
LatestVCSWkid(0)
Pixel Size X: 1.3441662822100624
Pixel Size Y: 0.9185222380320314
Band Count: 3
Pixel Type: U8
RasterFunction Infos: {"rasterFunctionInfos": [{
"name": "None",
"description": "",
"help": ""
}]}
Mensuration Capabilities: Basic
Inspection Capabilities:
Has Histograms: true
Has Colormap: false
Has Multi Dimensions : false
Rendering Rule:
Min Scale: 0
Max Scale: 0
Copyright Text:
Service Data Type: esriImageServiceDataTypeRGB
Min Values: 0, 0, 0
Max Values: 255, 255, 255
Mean Values: 231.06893064013644, 231.15729130469333, 231.1268508959086
Standard Deviation Values: 68.38771715403794, 68.23611197074744, 68.28602758869889
Object ID Field:
Fields:
None
Default Mosaic Method: Center
Allowed Mosaic Methods:
SortField:
SortValue: null
Mosaic Operator: First
Default Compression Quality: 75
Default Resampling Method: Bilinear
Max Record Count: null
Max Image Height: 4100
Max Image Width: 15000
Max Download Image Count: null
Max Mosaic Image Count: null
Allow Raster Function: true
Allow Copy: true
Allow Analysis: true
Allow Compute TiePoints: false
Supports Statistics: false
Supports Advanced Queries: false
Use StandardizedQueries: true
Raster Type Infos:
Name: Raster Dataset
Description: Supports all ArcGIS Raster Datasets
Help:
Has Raster Attribute Table: false
Edit Fields Info: null
Ownership Based AccessControl For Rasters: null
Child Resources:
Info
Histograms
Statistics
Key Properties
Legend
Raster Function Infos
Supported Operations:
Export Image
Identify
Measure
Compute Histograms
Compute Statistics Histograms
Get Samples
Compute Class Statistics
Query Boundary
Compute Pixel Location
Compute Angles
Validate
Project