{
 "currentVersion": 11.5,
 "serviceDescription": "Firefly2018",
 "serviceItemId": "cc9f85cf8ac645ba8416c9087c14c353",
 "name": "Firefly2018",
 "description": "",
 "extent": {
  "xmin": 620347.4697150737,
  "ymin": 428748.25418174017,
  "xmax": 633251.4660242903,
  "ymax": 441974.9744094014,
  "spatialReference": {
   "wkid": 102657,
   "latestWkid": 2235
  }
 },
 "initialExtent": {
  "xmin": 620347.4697150737,
  "ymin": 428748.25418174017,
  "xmax": 633251.4660242903,
  "ymax": 441974.9744094014,
  "spatialReference": {
   "wkid": 102657,
   "latestWkid": 2235
  }
 },
 "fullExtent": {
  "xmin": 620347.4697150737,
  "ymin": 428748.25418174017,
  "xmax": 633251.4660242903,
  "ymax": 441974.9744094014,
  "spatialReference": {
   "wkid": 102657,
   "latestWkid": 2235
  }
 },
 "sortableFields": "",
 "bandCount": 3,
 "pixelType": "U8",
 "minValues": [
  0,
  0,
  0
 ],
 "maxValues": [
  255,
  255,
  255
 ],
 "meanValues": [
  231.06893064013644,
  231.15729130469333,
  231.1268508959086
 ],
 "stdvValues": [
  68.38771715403794,
  68.23611197074744,
  68.28602758869889
 ],
 "serviceProperties": "Center<\/MosaicMethod>First<\/MosaicOperator>true<\/SortAscending><\/LockImageID><\/TileOrderField>0<\/TileOrderBase>0.000000<\/AvgImageSpacingX>0.000000<\/AvgImageSpacingY>0.0<\/ViewPointX>0.0<\/ViewPointY>0.0<\/ViewPointDefShiftX>0.0<\/ViewPointDefShiftY>None<\/CompressionMethod>75<\/CompressionQuality>0.010000<\/CompressionTolerance>Bilinear<\/SamplingMethod><\/ImageServiceProperties><\/ImageServer>",
 "allowedFields": "",
 "hasMultidimensions": false,
 "pixelSizeX": 1.3441662822100624,
 "pixelSizeY": 0.9185222380320314,
 "meanPixelSize": 0.34483442015373544,
 "datasetFormat": "SDR",
 "uncompressedSize": 414720000,
 "blockWidth": 128,
 "blockHeight": 128,
 "compressionType": "LZ77",
 "bandNames": [
  "Band_1",
  "Band_2",
  "Band_3"
 ],
 "allowCopy": true,
 "allowAnalysis": true,
 "itemAccess": false,
 "inspectionCapabilities": "",
 "minPixelSize": 0,
 "maxPixelSize": 0,
 "copyrightText": "",
 "serviceDataType": "esriImageServiceDataTypeRGB",
 "serviceSourceType": "esriImageServiceSourceTypeDataset",
 "objectIdField": "",
 "fields": [],
 "capabilities": "Image,Metadata,Mensuration",
 "defaultMosaicMethod": "Center",
 "allowedMosaicMethods": "",
 "sortField": "",
 "sortValue": null,
 "sortAscending": true,
 "mosaicOperator": "First",
 "defaultCompressionQuality": 75,
 "defaultResamplingMethod": "Bilinear",
 "maxImageHeight": 4100,
 "maxImageWidth": 15000,
 "allowRasterFunction": true,
 "rasterFunctionInfos": [
  {
   "name": "None",
   "description": "",
   "help": ""
  }
 ],
 "rasterTypeInfos": [
  {
   "name": "Raster Dataset",
   "description": "Supports all ArcGIS Raster Datasets",
   "help": ""
  }
 ],
 "mensurationCapabilities": "Basic",
 "hasHistograms": true,
 "hasColormap": false,
 "hasRasterAttributeTable": false,
 "minScale": 0,
 "maxScale": 0,
 "exportTilesAllowed": false,
 "supportsStatistics": false,
 "supportsAdvancedQueries": false,
 "editFieldsInfo": null,
 "ownershipBasedAccessControlForRasters": null,
 "allowComputeTiePoints": false,
 "useStandardizedQueries": true,
 "advancedQueryCapabilities": {
  "useStandardizedQueries": true,
  "supportsStatistics": false,
  "supportsOrderBy": false,
  "supportsDistinct": false,
  "supportsPagination": false
 },
 "spatialReference": {
  "wkid": 102657,
  "latestWkid": 2235
 }
}
